BEGIN:VCALENDAR
VERSION:2.0
BEGIN:VEVENT
CLASS:PUBLIC
DESCRIPTION:Speaker: Jean-François Bégin (Simon Fraser University\, Canada)\n\nThe zoom link will be available 15 minutes before the seminar on the following link: https://docs.google.com/document/d/1ExsaDqghA0zJZZ-V4mBIT50W3_jmDJznfirjyz-EzC8/edit?ts=5e9f9a01\n
DTSTART:20260506T150000Z
DTEND:20260506T161000Z
LOCATION:https://docs.google.com/document/d/1ExsaDqghA0zJZZ-V4mBIT50W3_jmDJznfirjyz-EzC8/edit?ts=5e9f9a01
SUMMARY;LANGUAGE=en-us:[OWARS] Jean-François Bégin (Simon Fraser University, Canada)
END:VEVENT
END:VCALENDAR
